Workbook
Name Nom_Organisme: Complément_RH!#REF!
Name Nom_Organisme: #REF!
Name Revenus_Type: [1]Listes!$G$2:$G$6

Sheet Listes
A1: Catégorie de dépenses - Autres | B1: Admissibilité
A2: Achat de matériel ou d'équipement de plein air durable | B2: Oui
A3: Achat de matériel de réparation et les frais de réparation du matériel de plein air | B3: Oui
A4: Achat de matériel de rangement | B4: Oui
A5: Frais d’accès aux sites de pratique et frais de camping - Tarif de groupe | B5: Oui
A6: Frais liés au transport pour des sorties de plein air seulement | B6: Oui
A7: Frais de gestion et de fonctionnement | B7: Non
A8: Frais liés à la formation de l'équipe encadrante | B8: Oui
A9: Frais liés à du matériel/autres éléments ne favorisant pas directement l’activité physique | B9: Non
A10: Autres frais | B10: Non
A11: Autres frais admissibles (Réservé à l'administration SLIM) | B11: Oui
A12: Le total de l'ensemble des taxes TPS-TVQ sur vos achats | B12: Non
A15: Oui
A16: Non
A17: Catégories de dépenses - RH | B17: Admissibilité
A18: Salaires ou honoraires - Animation | B18: Oui
A19: Salaires ou honoraires - Encadrement | B19: Oui
A20: Salaires ou honoraires - Libération d'un·e enseignant·e | B20: Oui
A21: Autres frais de main d'œuvre | B21: Non

Sheet Consignes
A1: CONSIGNES POUR COMPLÉTER VOTRE BUDGET PRÉVISIONNEL
A3: ONGLET - BUDGET PRÉVISIONNEL
A4: Cet onglet comprend le détail de vos revenus prévisionnels, ainsi que les dépenses prévisionnelles qui seront engendrées par votre projet. L'onglet est sécurisé et bloqué pour vous permettre de saisir des données seulement dans les cellules blanches (les cellules grises sont non modificables). Les totaux se calculent automatiquement.
A6: Il s'agit d'un BUDGET PRÉVISIONNEL, donc d'une estimation des coûts que vous anticipez pour votre projet. Aucun document justificatif ni soumission n’est requis à cette étape. L’objectif est simplement de mieux comprendre les grandes lignes de vos besoins financiers. Faites de votre mieux avec les informations dont vous disposez actuellement. Nous savons que les montants finaux pourront varier en cours de projet.
A12: Étape 1 : indiquez le nom de votre école et le titre de votre projet.
A17: Étape 2 : inscrivez les montants que vous envisagez recevoir pour chaque tupe de revenu.
A18: Il est important d'inscrire l'ensemble des sommes qui seront reçues et utilisées pour la réalisation de votre projet, incluant le soutien financier de SLIM et la contribution financière de votre école.
A27: Étape 3 : détaillez les dépenses liées aux ressources humaines que vous prévoyez.
B28: 3.1 : choisissez le type de dépense dans la colonne A - Catégorie.
B29: 3.2 : remplissez les informations détaillées de votre dépense (description, fournisseur ou personne, quantité d'heures, taux horaire, etc.) dans les colonnes C à G.
A30: Les colonnes B, H, I et J sont bloquées et les calculs se font automatiquement.
A31: Veuillez noter que SLIM se réserve le droit de réviser la catégorie ainsi que l'admissibilité en fonction des informations fournies.
A45: Étape 4 : détaillez les autres dépenses que vous prévoyez.
B46: 3.1 : choisissez le type de dépense dans la colonne A - Catégorie.
B47: 3.2 : remplissez les informations détaillées de votre dépense (description, fournisseur, quantité, coût unitaire, etc.) dans les colonnes C à G.
A48: Les colonnes B, H, I et J sont bloquées et les calculs se font automatiquement.
A49: Veuillez noter que SLIM se réserve le droit de réviser la catégorie ainsi que l'admissibilité en fonction des informations fournies.
A66: Les totaux de votre budget prévisionnel sont calculés automatiquement et apparaissent en bas l'onglet.
B75: Le total des dépenses prévues dans votre budget doit être égal ou supérieur au montant du soutien financier demandé (entre 2 000 $ et 8 500 $). Si votre budget prévisionnel prévoit des dépenses inférieures à ce montant, le soutien financier accordé sera ajusté en conséquence, selon les dépenses réellement prévues.

Sheet Dépenses admissibles
A1: RAPPEL DES DÉPENSES ADMISSIBLES
A2: Dépenses liées aux ressources humaines
A3: Dépenses admissibles | G3: Les dépenses ne peuvent atteindre plus de X% de l'enveloppe globale du financement
A4: Salaires ou honoraires pour le temps de libération d’un·e enseignant·e pour réaliser une activité avec ses élèves | G4: 0.5
A5: Salaires ou honoraires pour l’animation d’une activité
A6: Salaires ou honoraires pour l’encadrement d’une activité
A7: Autres dépenses
A8: Dépenses admissibles | G8: Les dépenses ne peuvent atteindre plus de X% de l'enveloppe globale du financement
A9: Achat ou la location de matériel de plein air durable | G9: 1
A10: Achat de matériel de réparation et d’entretien et les frais de réparation et d’entretien du matériel de plein air | G10: 0.15
A11: Achat de matériel de rangement | G11: 0.2
A12: Frais d’accès au site de pratique et frais de camping au tarif de groupe seulement | G12: 0.35
A13: Frais liés au transport pour des sorties de plein air seulement | G13: 0.25
A14: Frais de formation de plein air d’un·e enseignant·e | G14: 0.15
A16: RAPPEL DES DÉPENSES NON-ADMISSIBLES
A17: Les dépenses suivantes ne sont pas admissibles et ne pourront être remboursées dans le cadre de l’aide financière :
A18: ® Les taxes*;
A19: ® Les frais de douane et de livraison;
A20: ® Les frais de gestion administrative ou de fonctionnement de l’organisation;
A21: ® La nourriture et les breuvages;
A22: ® Les frais d’hébergement (excluant le camping en tente ou en refuge pour un groupe);
A23: ® Les dépenses destinées exclusivement à un citoyen ou à un participant (ex. : articles promotionnels, prix de participation, bourse, etc.);
A24: ® Les dépenses non essentielles à la pratique de l’activité physique et de plein air contribuant uniquement à l’amélioration de l’ambiance;
A25: ® Les frais d’assurances;
A26: ® Les frais engagés à l’extérieur de la période de réalisation du projet, soit l’année scolaire 2026-2027.
A28: * Notez qu'en tant qu'administration scolaire au Québec (organisme de services publics), des remboursements de taxes sont accessibles. Informations disponibles ici : https://www.revenuquebec.ca/fr/entreprises/taxes/tpstvh-et-tvq/situations-particulieres-liees-a-la-tpstvh-et-a-la-tvq/organismes-de-services-publics-tpstvh-et-tvq/remboursement-de-tps-et-de-tvq-accorde-aux-osp/

Sheet Budget prévisionnel
A1: BUDGET PRÉVISIONNEL
A2: eX3 - 2026-2027
A3: Nom de l'école | D3: Titre du projet
A5: REVENUS
H6: Type de revenus | I6: Montant | J6: %
A7: Soutien financier demandé à Sport et Loisir de l’île de Montréal
A8: Soutien financier demandé à Sport et Loisir de l’île de Montréal (avant les taxes) | J8: =IF(I16=0, "", I8/I16)
A9: Autres partenaires financiers
A10: Contribution financière de l'école | I10: 0 | J10: =IF(I16=0, "", I10/I16)
A11: Contribution du centre de services scolaire | I11: 0 | J11: =IF(I16=0, "", I11/I16)
A12: Frais d'inscription des participant·e·s | I12: 0 | J12: =IF(I16=0, "", I12/I16)
A13: Subventions gouvernementales (municipales, provinciales, fédérales) | I13: 0 | J13: =IF(I16=0, "", I13/I16)
A14: Commandites & Partenaires | I14: 0 | J14: =IF(I16=0, "", I14/I16)
A15: Total des revenus avant le soutien financier de SLIM | I15: =SUM(I10:I14) -> 0
H16: TOTAL DES REVENUS | I16: =SUM(I8:I14) -> 0
A18: DÉPENSES
A19: DÉPENSES LIÉES AUX RESSOURCES HUMAINES | L19: Réservé à SLIM
A20: Catégorie (liste déroulante de choix) | B20: Admissibilité du type de dépense | C20: Description de la dépense | D20: Fournisseur ou poste de la personne | E20: Quantité - Nombre d'heures ou de forfaits | F20: Taux horaire ou forfait (incluant D.A.S. et avant taxes) | G20: Taxes applicables (oui/non) | H20: Sous-total (avant taxe) | I20: Calcul des taxes (TVQ/TPS) | J20: Total (taxes incluses) | L20: Notes ou commentaires | M20: Montant admissible au soutien (provisoire) | N20: Date du paiement | O20: Pièces justificatives reçues | P20: Montant final accordé
B21: =_xlfn.XLOOKUP(A21,Tableau2[Catégories de dépenses - RH],Tableau2[Admissibilité],"N/A",0) -> N/A | H21: =E21*F21 -> 0 | I21: =IF(G21="oui", ROUND((H21*5%)+(H21*9.975%), 2), 0) -> 0 | J21: =E21*F21+I21 -> 0 | M21: =IF(B21="oui", H21,0) -> 0 | O21: FALSE
B22: =_xlfn.XLOOKUP(A22,Tableau2[Catégories de dépenses - RH],Tableau2[Admissibilité],"N/A",0) -> N/A | H22: =E22*F22 -> 0 | I22: =IF(G22="oui", ROUND((H22*5%)+(H22*9.975%), 2), 0) -> 0 | J22: =E22*F22+I22 -> 0 | M22: =IF(B22="oui", H22,0) -> 0 | O22: FALSE
B23: =_xlfn.XLOOKUP(A23,Tableau2[Catégories de dépenses - RH],Tableau2[Admissibilité],"N/A",0) -> N/A | H23: =E23*F23 -> 0 | I23: =IF(G23="oui", ROUND((H23*5%)+(H23*9.975%), 2), 0) -> 0 | J23: =E23*F23+I23 -> 0 | M23: =IF(B23="oui", H23,0) -> 0 | O23: FALSE
B24: =_xlfn.XLOOKUP(A24,Tableau2[Catégories de dépenses - RH],Tableau2[Admissibilité],"N/A",0) -> N/A | H24: =E24*F24 -> 0 | I24: =IF(G24="oui", ROUND((H24*5%)+(H24*9.975%), 2), 0) -> 0 | J24: =E24*F24+I24 -> 0 | M24: =IF(B24="oui", H24,0) -> 0 | O24: FALSE
B25: =_xlfn.XLOOKUP(A25,Tableau2[Catégories de dépenses - RH],Tableau2[Admissibilité],"N/A",0) -> N/A | H25: =E25*F25 -> 0 | I25: =IF(G25="oui", ROUND((H25*5%)+(H25*9.975%), 2), 0) -> 0 | J25: =E25*F25+I25 -> 0 | M25: =IF(B25="oui", H25,0) -> 0 | O25: FALSE
B26: =_xlfn.XLOOKUP(A26,Tableau2[Catégories de dépenses - RH],Tableau2[Admissibilité],"N/A",0) -> N/A | H26: =E26*F26 -> 0 | I26: =IF(G26="oui", ROUND((H26*5%)+(H26*9.975%), 2), 0) -> 0 | J26: =E26*F26+I26 -> 0 | M26: =IF(B26="oui", H26,0) -> 0 | O26: FALSE
B27: =_xlfn.XLOOKUP(A27,Tableau2[Catégories de dépenses - RH],Tableau2[Admissibilité],"N/A",0) -> N/A | H27: =E27*F27 -> 0 | I27: =IF(G27="oui", ROUND((H27*5%)+(H27*9.975%), 2), 0) -> 0 | J27: =E27*F27+I27 -> 0 | M27: =IF(B27="oui", H27,0) -> 0 | O27: FALSE
B28: =_xlfn.XLOOKUP(A28,Tableau2[Catégories de dépenses - RH],Tableau2[Admissibilité],"N/A",0) -> N/A | H28: =E28*F28 -> 0 | I28: =IF(G28="oui", ROUND((H28*5%)+(H28*9.975%), 2), 0) -> 0 | J28: =E28*F28+I28 -> 0 | M28: =IF(B28="oui", H28,0) -> 0 | O28: FALSE
B29: =_xlfn.XLOOKUP(A29,Tableau2[Catégories de dépenses - RH],Tableau2[Admissibilité],"N/A",0) -> N/A | H29: =E29*F29 -> 0 | I29: =IF(G29="oui", ROUND((H29*5%)+(H29*9.975%), 2), 0) -> 0 | J29: =E29*F29+I29 -> 0 | M29: =IF(B29="oui", H29,0) -> 0 | O29: FALSE
B30: =_xlfn.XLOOKUP(A30,Tableau2[Catégories de dépenses - RH],Tableau2[Admissibilité],"N/A",0) -> N/A | H30: =E30*F30 -> 0 | I30: =IF(G30="oui", ROUND((H30*5%)+(H30*9.975%), 2), 0) -> 0 | J30: =E30*F30+I30 -> 0 | M30: =IF(B30="oui", H30,0) -> 0 | O30: FALSE
B31: =_xlfn.XLOOKUP(A31,Tableau2[Catégories de dépenses - RH],Tableau2[Admissibilité],"N/A",0) -> N/A | H31: =E31*F31 -> 0 | I31: =IF(G31="oui", ROUND((H31*5%)+(H31*9.975%), 2), 0) -> 0 | J31: =E31*F31+I31 -> 0 | M31: =IF(B31="oui", H31,0) -> 0 | O31: FALSE
B32: =_xlfn.XLOOKUP(A32,Tableau2[Catégories de dépenses - RH],Tableau2[Admissibilité],"N/A",0) -> N/A | H32: =E32*F32 -> 0 | I32: =IF(G32="oui", ROUND((H32*5%)+(H32*9.975%), 2), 0) -> 0 | J32: =E32*F32+I32 -> 0 | M32: =IF(B32="oui", H32,0) -> 0 | O32: FALSE
B33: =_xlfn.XLOOKUP(A33,Tableau2[Catégories de dépenses - RH],Tableau2[Admissibilité],"N/A",0) -> N/A | H33: =E33*F33 -> 0 | I33: =IF(G33="oui", ROUND((H33*5%)+(H33*9.975%), 2), 0) -> 0 | J33: =E33*F33+I33 -> 0 | M33: =IF(B33="oui", H33,0) -> 0 | O33: FALSE
B34: =_xlfn.XLOOKUP(A34,Tableau2[Catégories de dépenses - RH],Tableau2[Admissibilité],"N/A",0) -> N/A | H34: =E34*F34 -> 0 | I34: =IF(G34="oui", ROUND((H34*5%)+(H34*9.975%), 2), 0) -> 0 | J34: =E34*F34+I34 -> 0 | M34: =IF(B34="oui",H34,0) -> 0 | O34: FALSE
A35: Sous-total dépenses liées aux ressources humaines | H35: =SUM(H21:H34) -> 0 | I35: =SUM(I21:I34) -> 0 | J35: =SUM(J21:J34) -> 0 | M35: =SUM(M21:M34) -> 0 | P35: =SUM(P21:P34) -> 0
A36: AUTRES DÉPENSES | L36: Réservé à SLIM
A37: Catégorie (choix de réponse) | B37: Admissibilité du type de dépense | C37: Description de la dépense | D37: Fournisseur | E37: Quantité | F37: Coût unitaire (avant taxes) | G37: Taxes applicables (oui/non) | H37: Sous-total (avant taxe) | I37: Calcul des taxes (TVQ/TPS) | J37: Total (taxes incluses) | L37: Notes ou commentaires | M37: Montant admissible au soutien (provisoire) | N37: Date du paiement | O37: Pièces justificatives reçues | P37: Montant final accordé
B38: =_xlfn.XLOOKUP(A38,Tableau1[Catégorie de dépenses - Autres],Tableau1[Admissibilité],"N/A",0) -> N/A | H38: =E38*F38 -> 0 | I38: =IF(G38="oui", ROUND((H38*5%)+(H38*9.975%), 2), 0) -> 0 | J38: =E38*F38+I38 -> 0 | M38: =IF(B38="oui", H38,0) -> 0 | O38: FALSE
B39: =_xlfn.XLOOKUP(A39,Tableau1[Catégorie de dépenses - Autres],Tableau1[Admissibilité],"N/A",0) -> N/A | H39: =E39*F39 -> 0 | I39: =IF(G39="oui", ROUND((H39*5%)+(H39*9.975%), 2), 0) -> 0 | J39: =E39*F39+I39 -> 0 | M39: =IF(B39="oui", H39,0) -> 0 | O39: FALSE
B40: =_xlfn.XLOOKUP(A40,Tableau1[Catégorie de dépenses - Autres],Tableau1[Admissibilité],"N/A",0) -> N/A | H40: =E40*F40 -> 0 | I40: =IF(G40="oui", ROUND((H40*5%)+(H40*9.975%), 2), 0) -> 0 | J40: =E40*F40+I40 -> 0 | M40: =IF(B40="oui", H40,0) -> 0 | O40: FALSE
B41: =_xlfn.XLOOKUP(A41,Tableau1[Catégorie de dépenses - Autres],Tableau1[Admissibilité],"N/A",0) -> N/A | H41: =E41*F41 -> 0 | I41: =IF(G41="oui", ROUND((H41*5%)+(H41*9.975%), 2), 0) -> 0 | J41: =E41*F41+I41 -> 0 | M41: =IF(B41="oui", H41,0) -> 0 | O41: FALSE
B42: =_xlfn.XLOOKUP(A42,Tableau1[Catégorie de dépenses - Autres],Tableau1[Admissibilité],"N/A",0) -> N/A | H42: =E42*F42 -> 0 | I42: =IF(G42="oui", ROUND((H42*5%)+(H42*9.975%), 2), 0) -> 0 | J42: =E42*F42+I42 -> 0 | M42: =IF(B42="oui", H42,0) -> 0 | O42: FALSE
...

Sheet Complément_RH
A1: Gestion des informations confidentielles de vos employé·e·s
A2: Ce document peut faire office de pièces justificatives pour vos salarié·e·s, dans l'éventualité où vous n'avez pas de document résumant ces informations.
A3: Prendre note que vous devez garder en référence dans vos dossier pour une période d'au moins 3 ans, l'ensemble des pièces justificatives de paiements des salaires payés dans le cadre de ce programme de soutien financier.
A4: Le paiement des honoraires ci-dessous doit être effectué à l'intérieur de la période de réalisation admissible au programme, soit du 1er septembre 2026 au 1er juin 2027.
A6: Nom | B6: Initiale du prénom | C6: Poste ou fonction durant le projet ou l'événement | D6: Taux horaire ou montant forfaitaire | E6: Nb d'heures ou nb de bloc forfaitaire | F6: Montant | G6: L'organisation certifie que le paiement des honoraires a eu lieu dans la période de réalisation admissible du programme eX3 2026-2027
F7: =D7*E7 -> 0
F8: =D8*E8 -> 0
F9: =D9*E9 -> 0
F10: =D10*E10 -> 0
F11: =D11*E11 -> 0
F12: =D12*E12 -> 0
F13: =D13*E13 -> 0
F14: =D14*E14 -> 0
F15: =D15*E15 -> 0
F16: =D16*E16 -> 0
F17: =D17*E17 -> 0
F18: =D18*E18 -> 0
... F36: =D36*E36 -> 0
A37: Total | F37: =SUM(F7:F36) -> 0
